BEGIN:VCALENDAR
VERSION:2.0
PRODID:spatie/icalendar-generator
DESCRIPTION:Events from Faith UMC
X-WR-CALDESC:Events from Faith UMC
REFRESH-INTERVAL;VALUE=DURATION:PT1440M
X-PUBLISHED-TTL:PT1440M
BEGIN:VTIMEZONE
TZID:America/Chicago
BEGIN:STANDARD
DTSTART:20251102T020000Z
TZOFFSETFROM:-0500
TZOFFSETTO:-0600
END:STANDARD
BEGIN:DAYLIGHT
DTSTART:20260308T020000Z
TZOFFSETFROM:-0600
TZOFFSETTO:-0500
END:DAYLIGHT
END:VTIMEZONE
BEGIN:VTIMEZONE
TZID:UTC
BEGIN:STANDARD
DTSTART:20250723T122659Z
TZOFFSETFROM:+0000
TZOFFSETTO:+0000
END:STANDARD
END:VTIMEZONE
BEGIN:VEVENT
UID:7256-24
DTSTAMP:20260419T122659Z
SUMMARY:Administrative Council
LOCATION:
ORGANIZER;CN=Faith UMC Admin:MAILTO:audiovisual@faithumcinclay.org
RRULE:FREQ=MONTHLY;BYMONTHDAY=11;UNTIL=20301231T000000Z
DTSTART;TZID=America/Chicago:20251211T120000
DTEND;TZID=America/Chicago:20260409T130000
X-ALT-DESC;FMTTYPE=TEXT/HTML:Council meets in the Fellowship Hall
CATEGORIES:General
URL;VALUE=URI:https://faithumcinclay.org/my-calendar/?mc_id=7256
METHOD:PUBLISH
END:VEVENT
BEGIN:VEVENT
UID:4584-72
DTSTAMP:20260419T122659Z
SUMMARY:Praise Team practice
LOCATION:
ORGANIZER;CN=Faith UMC Admin:MAILTO:audiovisual@faithumcinclay.org
RRULE:FREQ=WEEKLY;UNTIL=20301218T000000Z
DTSTART;TZID=America/Chicago:20260401T180000
DTEND;TZID=America/Chicago:20260401T184500
X-ALT-DESC;FMTTYPE=TEXT/HTML:Praise team meets on Wednesday to practice
CATEGORIES:General
URL;VALUE=URI:https://faithumcinclay.org/my-calendar/?mc_id=4584
METHOD:PUBLISH
END:VEVENT
BEGIN:VEVENT
UID:7958-516
DTSTAMP:20260419T122659Z
SUMMARY:Celebrate Recovery
LOCATION:
ORGANIZER;CN=Faith UMC Office:MAILTO:office@faithumcinclay.org
RRULE:FREQ=WEEKLY;UNTIL=20271230T000000Z
DTSTART;TZID=America/Chicago:20260402T173000
DTEND;TZID=America/Chicago:20260402T200000
X-ALT-DESC;FMTTYPE=TEXT/HTML:
CATEGORIES:General
URL;VALUE=URI:https://faithumcinclay.org/my-calendar/?mc_id=7958
METHOD:PUBLISH
END:VEVENT
BEGIN:VEVENT
UID:8102-532
DTSTAMP:20260419T122659Z
SUMMARY:Maundy Thursday Jerusalem Dinner
LOCATION:
ORGANIZER;CN=Faith UMC Office:MAILTO:office@faithumcinclay.org
DTSTART;TZID=America/Chicago:20260402T180000
DTEND;TZID=America/Chicago:20260402T193000
X-ALT-DESC;FMTTYPE=TEXT/HTML:
CATEGORIES:General
URL;VALUE=URI:https://faithumcinclay.org/my-calendar/?mc_id=8102
METHOD:PUBLISH
END:VEVENT
BEGIN:VEVENT
UID:8103-533
DTSTAMP:20260419T122659Z
SUMMARY:Good Friday Service (All Saints/Pump It Up)
LOCATION:
ORGANIZER;CN=Faith UMC Office:MAILTO:office@faithumcinclay.org
DTSTART;TZID=America/Chicago:20260403T183000
DTEND;TZID=America/Chicago:20260403T193000
X-ALT-DESC;FMTTYPE=TEXT/HTML:
CATEGORIES:General
URL;VALUE=URI:https://faithumcinclay.org/my-calendar/?mc_id=8103
METHOD:PUBLISH
END:VEVENT
BEGIN:VEVENT
UID:8112-534
DTSTAMP:20260419T122659Z
SUMMARY:Community Easter Egg Hunt
LOCATION:
ORGANIZER;CN=Faith UMC Office:MAILTO:office@faithumcinclay.org
DTSTART;TZID=America/Chicago:20260404T103000
DTEND;TZID=America/Chicago:20260404T120000
X-ALT-DESC;FMTTYPE=TEXT/HTML:
CATEGORIES:General
URL;VALUE=URI:https://faithumcinclay.org/my-calendar/?mc_id=8112
METHOD:PUBLISH
END:VEVENT
BEGIN:VEVENT
UID:8105-535
DTSTAMP:20260419T122659Z
SUMMARY:Sonrise Service
LOCATION:
ORGANIZER;CN=Faith UMC Office:MAILTO:office@faithumcinclay.org
DTSTART;TZID=America/Chicago:20260405T070000
DTEND;TZID=America/Chicago:20260405T080000
X-ALT-DESC;FMTTYPE=TEXT/HTML:
CATEGORIES:General
URL;VALUE=URI:https://faithumcinclay.org/my-calendar/?mc_id=8105
METHOD:PUBLISH
END:VEVENT
BEGIN:VEVENT
UID:8106-536
DTSTAMP:20260419T122659Z
SUMMARY:Breakfast
LOCATION:
ORGANIZER;CN=Faith UMC Office:MAILTO:office@faithumcinclay.org
DTSTART;TZID=America/Chicago:20260405T080000
DTEND;TZID=America/Chicago:20260405T090000
X-ALT-DESC;FMTTYPE=TEXT/HTML:
CATEGORIES:General
URL;VALUE=URI:https://faithumcinclay.org/my-calendar/?mc_id=8106
METHOD:PUBLISH
END:VEVENT
BEGIN:VEVENT
UID:8107-537
DTSTAMP:20260419T122659Z
SUMMARY:Easter Worship
LOCATION:
ORGANIZER;CN=Faith UMC Office:MAILTO:office@faithumcinclay.org
DTSTART;TZID=America/Chicago:20260405T110000
DTEND;TZID=America/Chicago:20260405T120000
X-ALT-DESC;FMTTYPE=TEXT/HTML:
CATEGORIES:General
URL;VALUE=URI:https://faithumcinclay.org/my-calendar/?mc_id=8107
METHOD:PUBLISH
END:VEVENT
BEGIN:VEVENT
UID:8084-520
DTSTAMP:20260419T122659Z
SUMMARY:Cub Scouts 6:15pm
LOCATION:
ORGANIZER;CN=Faith UMC Office:MAILTO:office@faithumcinclay.org
RRULE:FREQ=WEEKLY;UNTIL=20260525T000000Z
DTSTART;TZID=America/Chicago:20260406T181500
DTEND;TZID=America/Chicago:20260406T200000
X-ALT-DESC;FMTTYPE=TEXT/HTML:
CATEGORIES:General
URL;VALUE=URI:https://faithumcinclay.org/my-calendar/?mc_id=8084
METHOD:PUBLISH
END:VEVENT
BEGIN:VEVENT
UID:8110-540
DTSTAMP:20260419T122659Z
SUMMARY:Set Up Cub Scout pinewood Derby
LOCATION:
ORGANIZER;CN=Faith UMC Office:MAILTO:office@faithumcinclay.org
DTSTART;TZID=America/Chicago:20260410T180000
DTEND;TZID=America/Chicago:20260410T210000
X-ALT-DESC;FMTTYPE=TEXT/HTML:
CATEGORIES:General
URL;VALUE=URI:https://faithumcinclay.org/my-calendar/?mc_id=8110
METHOD:PUBLISH
END:VEVENT
BEGIN:VEVENT
UID:8111-541
DTSTAMP:20260419T122659Z
SUMMARY:Pine Wood Derby Pack 66
LOCATION:
ORGANIZER;CN=Faith UMC Office:MAILTO:office@faithumcinclay.org
DTSTART;TZID=America/Chicago:20260411T080000
DTEND;TZID=America/Chicago:20260411T180000
X-ALT-DESC;FMTTYPE=TEXT/HTML:Debbie Tews POC
CATEGORIES:General
URL;VALUE=URI:https://faithumcinclay.org/my-calendar/?mc_id=8111
METHOD:PUBLISH
END:VEVENT
BEGIN:VEVENT
UID:7915-507
DTSTAMP:20260419T122659Z
SUMMARY:Dinner Church All Saints/Faith UMC
LOCATION:
ORGANIZER;CN=Faith UMC Office:MAILTO:office@faithumcinclay.org
RRULE:FREQ=MONTHLY;BYDAY=3WE;UNTIL=20260715T000000Z
DTSTART;TZID=America/Chicago:20260415T181500
DTEND;TZID=America/Chicago:20260415T201500
X-ALT-DESC;FMTTYPE=TEXT/HTML:Community Meal Bible Study &amp;amp\; Class 6:15pm
  POC  Rev. Daniel &amp;amp\; Melinda
CATEGORIES:General
URL;VALUE=URI:https://faithumcinclay.org/my-calendar/?mc_id=7915
METHOD:PUBLISH
END:VEVENT
BEGIN:VEVENT
UID:8098-528
DTSTAMP:20260419T122659Z
SUMMARY:Emmaus Cluster Meeting
LOCATION:
ORGANIZER;CN=Faith UMC Office:MAILTO:office@faithumcinclay.org
DTSTART;TZID=America/Chicago:20260428T180000
DTEND;TZID=America/Chicago:20260428T200000
X-ALT-DESC;FMTTYPE=TEXT/HTML:
CATEGORIES:General
URL;VALUE=URI:https://faithumcinclay.org/my-calendar/?mc_id=8098
METHOD:PUBLISH
END:VEVENT
END:VCALENDAR